BEGIN:VCALENDAR
VERSION:2.0
PRODID:-//Green Mountain Football - ECPv6.15.20//NONSGML v1.0//EN
CALSCALE:GREGORIAN
METHOD:PUBLISH
X-WR-CALNAME:Green Mountain Football
X-ORIGINAL-URL:https://greenmountainfootball.com
X-WR-CALDESC:Events for Green Mountain Football
REFRESH-INTERVAL;VALUE=DURATION:PT1H
X-Robots-Tag:noindex
X-PUBLISHED-TTL:PT1H
BEGIN:VTIMEZONE
TZID:America/Denver
BEGIN:DAYLIGHT
TZOFFSETFROM:-0700
TZOFFSETTO:-0600
TZNAME:MDT
DTSTART:20240310T090000
END:DAYLIGHT
BEGIN:STANDARD
TZOFFSETFROM:-0600
TZOFFSETTO:-0700
TZNAME:MST
DTSTART:20241103T080000
END:STANDARD
BEGIN:DAYLIGHT
TZOFFSETFROM:-0700
TZOFFSETTO:-0600
TZNAME:MDT
DTSTART:20250309T090000
END:DAYLIGHT
BEGIN:STANDARD
TZOFFSETFROM:-0600
TZOFFSETTO:-0700
TZNAME:MST
DTSTART:20251102T080000
END:STANDARD
BEGIN:DAYLIGHT
TZOFFSETFROM:-0700
TZOFFSETTO:-0600
TZNAME:MDT
DTSTART:20260308T090000
END:DAYLIGHT
BEGIN:STANDARD
TZOFFSETFROM:-0600
TZOFFSETTO:-0700
TZNAME:MST
DTSTART:20261101T080000
END:STANDARD
END:VTIMEZONE
BEGIN:VEVENT
DTSTART;TZID=America/Denver:20251108T110000
DTEND;TZID=America/Denver:20251108T150000
DTSTAMP:20260420T113710
CREATED:20250815T033857Z
LAST-MODIFIED:20250815T034049Z
UID:10000404-1762599600-1762614000@greenmountainfootball.com
SUMMARY:Level III Game vs Skyview High School
DESCRIPTION:
URL:https://greenmountainfootball.com/event/level-iii-game-vs-skyview-high-school/
LOCATION:Green Mountain High School\, 13175 W Green Mountain Dr\, Lakewood\, CO\, 80228\, United States
CATEGORIES:Coaches,Game,L3 Only,Parents,Players
ATTACH;FMTTYPE=image/png:https://greenmountainfootball.com/wp-content/uploads/2025/03/Untitled-design-23.png
END:VEVENT
BEGIN:VEVENT
DTSTART;TZID=America/Denver:20251107T193000
DTEND;TZID=America/Denver:20251107T223000
DTSTAMP:20260420T113710
CREATED:20250730T185639Z
LAST-MODIFIED:20250730T185639Z
UID:10000392-1762543800-1762554600@greenmountainfootball.com
SUMMARY:Varsity Game at Skyview High School
DESCRIPTION:
URL:https://greenmountainfootball.com/event/varsity-game-at-skyview-high-school/
LOCATION:Skyview High School\, 8990 York St\, Thornton\, CO\, 80229\, United States
CATEGORIES:Coaches,Game,Parents,Players
ATTACH;FMTTYPE=image/png:https://greenmountainfootball.com/wp-content/uploads/2025/03/Untitled-design-23.png
END:VEVENT
BEGIN:VEVENT
DTSTART;TZID=America/Denver:20251101T110000
DTEND;TZID=America/Denver:20251101T140000
DTSTAMP:20260420T113710
CREATED:20250815T033632Z
LAST-MODIFIED:20250815T034049Z
UID:10000403-1761994800-1762005600@greenmountainfootball.com
SUMMARY:Level III Game at Conifer High School
DESCRIPTION:
URL:https://greenmountainfootball.com/event/level-iii-game-at-conifer-high-school/
LOCATION:Conifer High School
CATEGORIES:Coaches,Game,L3 Only,Parents,Players
ATTACH;FMTTYPE=image/png:https://greenmountainfootball.com/wp-content/uploads/2025/03/Untitled-design-23.png
END:VEVENT
BEGIN:VEVENT
DTSTART;TZID=America/Denver:20251031T193000
DTEND;TZID=America/Denver:20251031T223000
DTSTAMP:20260420T113710
CREATED:20250730T185508Z
LAST-MODIFIED:20250730T185652Z
UID:10000391-1761939000-1761949800@greenmountainfootball.com
SUMMARY:Varsity Game vs Conifer High School
DESCRIPTION:
URL:https://greenmountainfootball.com/event/varsity-game-vs-conifer-high-school/
LOCATION:Trailblazer Stadium\, 100 Kipling Street\, Lakewood\, CO\, 80226\, United States
CATEGORIES:Coaches,Game,Parents,Players
ATTACH;FMTTYPE=image/png:https://greenmountainfootball.com/wp-content/uploads/2025/03/Untitled-design-23.png
END:VEVENT
BEGIN:VEVENT
DTSTART;TZID=America/Denver:20251023T190000
DTEND;TZID=America/Denver:20251023T220000
DTSTAMP:20260420T113710
CREATED:20250730T185413Z
LAST-MODIFIED:20250730T185700Z
UID:10000390-1761246000-1761256800@greenmountainfootball.com
SUMMARY:Varsity Game vs Evergreen High School
DESCRIPTION:
URL:https://greenmountainfootball.com/event/varsity-game-vs-evergreen-high-school/
LOCATION:Jeffco Statdium\, 500 Kipling Street\, Lakewood\, CO\, 80226\, United States
CATEGORIES:Coaches,Game,Parents,Players
ATTACH;FMTTYPE=image/png:https://greenmountainfootball.com/wp-content/uploads/2025/03/Untitled-design-23.png
END:VEVENT
BEGIN:VEVENT
DTSTART;TZID=America/Denver:20251018T110000
DTEND;TZID=America/Denver:20251018T140000
DTSTAMP:20260420T113710
CREATED:20250815T033505Z
LAST-MODIFIED:20250815T034049Z
UID:10000402-1760785200-1760796000@greenmountainfootball.com
SUMMARY:Level III Game vs Summit High School
DESCRIPTION:
URL:https://greenmountainfootball.com/event/level-iii-game-vs-summit-high-school/
LOCATION:Green Mountain High School\, 13175 W Green Mountain Dr\, Lakewood\, CO\, 80228\, United States
CATEGORIES:Coaches,Game,L3 Only,Parents,Players
ATTACH;FMTTYPE=image/png:https://greenmountainfootball.com/wp-content/uploads/2025/03/Untitled-design-23.png
END:VEVENT
BEGIN:VEVENT
DTSTART;TZID=America/Denver:20251017T190000
DTEND;TZID=America/Denver:20251017T223000
DTSTAMP:20260420T113710
CREATED:20250730T185318Z
LAST-MODIFIED:20250730T185318Z
UID:10000389-1760727600-1760740200@greenmountainfootball.com
SUMMARY:Varsity Game at Summit High School
DESCRIPTION:
URL:https://greenmountainfootball.com/event/varsity-game-at-summit-high-school/
LOCATION:Summit High School\, 16201 Co Hwy 9\, Breckenridge\, 80424\, United States
CATEGORIES:Coaches,Game,Parents,Players
ATTACH;FMTTYPE=image/png:https://greenmountainfootball.com/wp-content/uploads/2025/03/Untitled-design-23.png
END:VEVENT
BEGIN:VEVENT
DTSTART;TZID=America/Denver:20251010T190000
DTEND;TZID=America/Denver:20251010T220000
DTSTAMP:20260420T113710
CREATED:20250730T185154Z
LAST-MODIFIED:20250812T163632Z
UID:10000388-1760122800-1760133600@greenmountainfootball.com
SUMMARY:Varsity Game at Wheat Ridge High School
DESCRIPTION:
URL:https://greenmountainfootball.com/event/varsity-game-at-wheat-ridge-high-school/
LOCATION:Trailblazer Stadium\, 100 Kipling Street\, Lakewood\, CO\, 80226\, United States
CATEGORIES:Coaches,Game,Parents,Players
ATTACH;FMTTYPE=image/png:https://greenmountainfootball.com/wp-content/uploads/2025/03/Untitled-design-23.png
END:VEVENT
BEGIN:VEVENT
DTSTART;TZID=America/Denver:20251009T183000
DTEND;TZID=America/Denver:20251009T213000
DTSTAMP:20260420T113710
CREATED:20250815T033359Z
LAST-MODIFIED:20250815T034049Z
UID:10000401-1760034600-1760045400@greenmountainfootball.com
SUMMARY:Level III Game vs Wheat Ridge High School
DESCRIPTION:
URL:https://greenmountainfootball.com/event/level-iii-game-vs-wheat-ridge-high-school/
LOCATION:Green Mountain High School\, 13175 W Green Mountain Dr\, Lakewood\, CO\, 80228\, United States
CATEGORIES:Game,L3 Only
ATTACH;FMTTYPE=image/png:https://greenmountainfootball.com/wp-content/uploads/2025/03/Untitled-design-23.png
END:VEVENT
BEGIN:VEVENT
DTSTART;TZID=America/Denver:20251004T110000
DTEND;TZID=America/Denver:20251004T140000
DTSTAMP:20260420T113710
CREATED:20250815T033215Z
LAST-MODIFIED:20251002T020933Z
UID:10000400-1759575600-1759586400@greenmountainfootball.com
SUMMARY:Level III Game vs Lutheran High School
DESCRIPTION:
URL:https://greenmountainfootball.com/event/level-iii-vs-lutheran-high-school/
LOCATION:Green Mountain High School\, 13175 W Green Mountain Dr\, Lakewood\, CO\, 80228\, United States
CATEGORIES:Coaches,Game,L3 Only,Parents,Players
ATTACH;FMTTYPE=image/png:https://greenmountainfootball.com/wp-content/uploads/2025/03/Untitled-design-23.png
END:VEVENT
BEGIN:VEVENT
DTSTART;TZID=America/Denver:20251003T190000
DTEND;TZID=America/Denver:20251003T220000
DTSTAMP:20260420T113710
CREATED:20250730T182108Z
LAST-MODIFIED:20250730T182108Z
UID:10000387-1759518000-1759528800@greenmountainfootball.com
SUMMARY:Varsity Game at Lutheran High School
DESCRIPTION:
URL:https://greenmountainfootball.com/event/varsity-game-at-lutheran-high-school/
LOCATION:Lutheran High School\, 11249 Newlin Gulch Blvd\, Parker\, CO\, 80134\, United States
CATEGORIES:Coaches,Game,Parents,Players
ATTACH;FMTTYPE=image/png:https://greenmountainfootball.com/wp-content/uploads/2025/03/Untitled-design-23.png
END:VEVENT
BEGIN:VEVENT
DTSTART;TZID=America/Denver:20250922T160000
DTEND;TZID=America/Denver:20250922T183000
DTSTAMP:20260420T113710
CREATED:20250922T151049Z
LAST-MODIFIED:20250922T151049Z
UID:10000436-1758556800-1758565800@greenmountainfootball.com
SUMMARY:Level III Game vs Northridge High School
DESCRIPTION:
URL:https://greenmountainfootball.com/event/level-iii-game-vs-northridge-high-school/
LOCATION:Green Mountain High School\, 13175 W Green Mountain Dr\, Lakewood\, CO\, 80228\, United States
CATEGORIES:Coaches,Game,L3 Only,Parents,Players
ATTACH;FMTTYPE=image/png:https://greenmountainfootball.com/wp-content/uploads/2025/03/Untitled-design-23.png
END:VEVENT
BEGIN:VEVENT
DTSTART;TZID=America/Denver:20250919T190000
DTEND;TZID=America/Denver:20250919T220000
DTSTAMP:20260420T113710
CREATED:20250730T181745Z
LAST-MODIFIED:20250730T181802Z
UID:10000386-1758308400-1758319200@greenmountainfootball.com
SUMMARY:Varsity Game at Northridge High School
DESCRIPTION:
URL:https://greenmountainfootball.com/event/gameday-at-northridge-high-school/
LOCATION:Northridge High School\, 7001 Grizzly Drive\, Greeley\, 80634\, United States
CATEGORIES:Coaches,Game,Parents,Players
ATTACH;FMTTYPE=image/png:https://greenmountainfootball.com/wp-content/uploads/2025/03/Untitled-design-23.png
END:VEVENT
BEGIN:VEVENT
DTSTART;TZID=America/Denver:20250913T110000
DTEND;TZID=America/Denver:20250913T150000
DTSTAMP:20260420T113710
CREATED:20250815T032907Z
LAST-MODIFIED:20250815T034109Z
UID:10000399-1757761200-1757775600@greenmountainfootball.com
SUMMARY:Level III Game at Pomona High School
DESCRIPTION:
URL:https://greenmountainfootball.com/event/level-iii-at-pomona-high-school/
LOCATION:Pomona High School
CATEGORIES:Coaches,Game,L3 Only,Parents,Players
ATTACH;FMTTYPE=image/png:https://greenmountainfootball.com/wp-content/uploads/2025/03/Untitled-design-23.png
END:VEVENT
BEGIN:VEVENT
DTSTART;TZID=America/Denver:20250912T190000
DTEND;TZID=America/Denver:20250912T220000
DTSTAMP:20260420T113710
CREATED:20250730T181303Z
LAST-MODIFIED:20250730T185709Z
UID:10000385-1757703600-1757714400@greenmountainfootball.com
SUMMARY:Varsity Game vs Pomona High School
DESCRIPTION:
URL:https://greenmountainfootball.com/event/gameday-vs-pomona-panthers/
LOCATION:Jeffco Statdium\, 500 Kipling Street\, Lakewood\, CO\, 80226\, United States
CATEGORIES:Coaches,Game,Parents,Players
ATTACH;FMTTYPE=image/png:https://greenmountainfootball.com/wp-content/uploads/2025/03/Untitled-design-23.png
END:VEVENT
BEGIN:VEVENT
DTSTART;TZID=America/Denver:20250908T160000
DTEND;TZID=America/Denver:20250908T190000
DTSTAMP:20260420T113710
CREATED:20250815T032738Z
LAST-MODIFIED:20250815T034049Z
UID:10000398-1757347200-1757358000@greenmountainfootball.com
SUMMARY:Level III Game vs Dakota Ridge High School
DESCRIPTION:
URL:https://greenmountainfootball.com/event/level-iii-game-vs-dakota-ridge-high-school/
LOCATION:Green Mountain High School\, 13175 W Green Mountain Dr\, Lakewood\, CO\, 80228\, United States
CATEGORIES:Coaches,Game,L3 Only,Parents,Players
ATTACH;FMTTYPE=image/png:https://greenmountainfootball.com/wp-content/uploads/2025/03/Untitled-design-23.png
END:VEVENT
BEGIN:VEVENT
DTSTART;TZID=America/Denver:20250906T210000
DTEND;TZID=America/Denver:20250906T210000
DTSTAMP:20260420T113710
CREATED:20250730T171628Z
LAST-MODIFIED:20250730T185715Z
UID:10000384-1757192400-1757192400@greenmountainfootball.com
SUMMARY:Varsity Game at Corona del Mar High School
DESCRIPTION:
URL:https://greenmountainfootball.com/event/gameday-vs-corona-del-mar-seakings/
LOCATION:Corona del Mar High School\, 2101 Eastbluff Drive\, Newport Beach\, CA\, 92660\, United States
CATEGORIES:Coaches,Game,Parents,Players
ATTACH;FMTTYPE=image/png:https://greenmountainfootball.com/wp-content/uploads/2025/03/Untitled-design-23.png
END:VEVENT
BEGIN:VEVENT
DTSTART;TZID=America/Denver:20250830T090000
DTEND;TZID=America/Denver:20250830T120000
DTSTAMP:20260420T113710
CREATED:20250815T032453Z
LAST-MODIFIED:20250815T034049Z
UID:10000397-1756544400-1756555200@greenmountainfootball.com
SUMMARY:Level III Game at Windsor High School
DESCRIPTION:
URL:https://greenmountainfootball.com/event/level-iii-game-at-windsor-high-school/
LOCATION:Windsor High School
CATEGORIES:Coaches,Game,L3 Only,Parents,Players
ATTACH;FMTTYPE=image/png:https://greenmountainfootball.com/wp-content/uploads/2025/03/Untitled-design-23.png
END:VEVENT
BEGIN:VEVENT
DTSTART;TZID=America/Denver:20250829T160000
DTEND;TZID=America/Denver:20250829T190000
DTSTAMP:20260420T113710
CREATED:20250730T171026Z
LAST-MODIFIED:20250730T185720Z
UID:10000383-1756483200-1756494000@greenmountainfootball.com
SUMMARY:Varsity Game vs Windsor High School
DESCRIPTION:
URL:https://greenmountainfootball.com/event/gameday-windsor/
LOCATION:Trailblazer Stadium\, 100 Kipling Street\, Lakewood\, CO\, 80226\, United States
CATEGORIES:Coaches,Game,Parents,Players
ATTACH;FMTTYPE=image/png:https://greenmountainfootball.com/wp-content/uploads/2025/03/Untitled-design-23.png
END:VEVENT
BEGIN:VEVENT
DTSTART;TZID=America/Denver:20250823T090000
DTEND;TZID=America/Denver:20250823T120000
DTSTAMP:20260420T113710
CREATED:20250409T180424Z
LAST-MODIFIED:20250815T034204Z
UID:10000051-1755939600-1755950400@greenmountainfootball.com
SUMMARY:Level III Scrimmage at Lakewood
DESCRIPTION:
URL:https://greenmountainfootball.com/event/level-iii-scrimmage-vs-lakewood/
LOCATION:Lakewood High School\, 9700 W 8th Ave\, Lakewood\, CO\, 80215\, United States
CATEGORIES:Coaches,Game,L3 Only,Parents,Players
ATTACH;FMTTYPE=image/png:https://greenmountainfootball.com/wp-content/uploads/2025/03/Untitled-design-23.png
END:VEVENT
END:VCALENDAR