BEGIN:VCALENDAR
VERSION:2.0
PRODID:-//Green Mountain Football - ECPv6.15.20//NONSGML v1.0//EN
CALSCALE:GREGORIAN
METHOD:PUBLISH
X-WR-CALNAME:Green Mountain Football
X-ORIGINAL-URL:https://greenmountainfootball.com
X-WR-CALDESC:Events for Green Mountain Football
REFRESH-INTERVAL;VALUE=DURATION:PT1H
X-Robots-Tag:noindex
X-PUBLISHED-TTL:PT1H
BEGIN:VTIMEZONE
TZID:America/Denver
BEGIN:DAYLIGHT
TZOFFSETFROM:-0700
TZOFFSETTO:-0600
TZNAME:MDT
DTSTART:20240310T090000
END:DAYLIGHT
BEGIN:STANDARD
TZOFFSETFROM:-0600
TZOFFSETTO:-0700
TZNAME:MST
DTSTART:20241103T080000
END:STANDARD
BEGIN:DAYLIGHT
TZOFFSETFROM:-0700
TZOFFSETTO:-0600
TZNAME:MDT
DTSTART:20250309T090000
END:DAYLIGHT
BEGIN:STANDARD
TZOFFSETFROM:-0600
TZOFFSETTO:-0700
TZNAME:MST
DTSTART:20251102T080000
END:STANDARD
BEGIN:DAYLIGHT
TZOFFSETFROM:-0700
TZOFFSETTO:-0600
TZNAME:MDT
DTSTART:20260308T090000
END:DAYLIGHT
BEGIN:STANDARD
TZOFFSETFROM:-0600
TZOFFSETTO:-0700
TZNAME:MST
DTSTART:20261101T080000
END:STANDARD
END:VTIMEZONE
BEGIN:VEVENT
DTSTART;TZID=America/Denver:20250719T090000
DTEND;TZID=America/Denver:20250719T110000
DTSTAMP:20260425T082452
CREATED:20250311T151449Z
LAST-MODIFIED:20250630T171647Z
UID:10000035-1752915600-1752922800@greenmountainfootball.com
SUMMARY:Ladies of Rams Camp 2025
DESCRIPTION:
URL:https://greenmountainfootball.com/event/ladies-of-rams-camp/
LOCATION:Green Mountain High School\, 13175 W Green Mountain Dr\, Lakewood\, CO\, 80228\, United States
CATEGORIES:Camps & Clinics,Coaches,Parents,Players
ATTACH;FMTTYPE=image/jpeg:https://greenmountainfootball.com/wp-content/uploads/2025/03/453205974_17864351406179687_8133874384864520809_n-1.jpg
END:VEVENT
END:VCALENDAR